Workbook

Sheet Vaktliste
A1: Ansatt | B1: Dato | C1: Start | D1: Slutt | E1: Arbeidssted | F1: Timer | G1: Hvile før (timer) | H1: Varsel | I1: Hjelpekolonne: start i minutter | J1: Hjelpekolonne: slutt i minutter
A2: Eksempel Kari | B2: 46328 | C2: 0.625 | D2: 0.95833333 | E2: Butikk sentrum | F2: =IF(OR(I2="",J2=""),"",(J2-I2)/60) -> 8 | G2: =IF(I2="","",IF(COUNTIFS($A$2:$A$500,A2,$I$2:$I$500,"<"&I2)=0,"",(I2-_xlfn.MAXIFS($J$2:$J$500,$A$2:$A$500,A2,$I$2:$I$500,"<"&I2))/60)) | H2: =IF(G2="","",IF(G2<0,"Overlapper forrige vakt",IF(G2<11,"Under 11 t hvile",""))) | I2: =IF(OR(B2="",C2=""),"",ROUND((B2+C2)*1440,0)) -> 66713220 | J2: =IF(OR(B2="",C2="",D2=""),"",ROUND((B2+D2+IF(D2<=C2,1,0))*1440,0)) -> 66713700
A3: Eksempel Kari | B3: 46329 | C3: 0.29166667 | D3: 0.625 | E3: Butikk sentrum | F3: =IF(OR(I3="",J3=""),"",(J3-I3)/60) -> 8 | G3: =IF(I3="","",IF(COUNTIFS($A$2:$A$500,A3,$I$2:$I$500,"<"&I3)=0,"",(I3-_xlfn.MAXIFS($J$2:$J$500,$A$2:$A$500,A3,$I$2:$I$500,"<"&I3))/60)) -> 8 | H3: =IF(G3="","",IF(G3<0,"Overlapper forrige vakt",IF(G3<11,"Under 11 t hvile",""))) -> Under 11 t hvile | I3: =IF(OR(B3="",C3=""),"",ROUND((B3+C3)*1440,0)) -> 66714180 | J3: =IF(OR(B3="",C3="",D3=""),"",ROUND((B3+D3+IF(D3<=C3,1,0))*1440,0)) -> 66714660
A4: Eksempel Ola | B4: 46329 | C4: 0.95833333 | D4: 0.29166667 | E4: Lager | F4: =IF(OR(I4="",J4=""),"",(J4-I4)/60) -> 8 | G4: =IF(I4="","",IF(COUNTIFS($A$2:$A$500,A4,$I$2:$I$500,"<"&I4)=0,"",(I4-_xlfn.MAXIFS($J$2:$J$500,$A$2:$A$500,A4,$I$2:$I$500,"<"&I4))/60)) | H4: =IF(G4="","",IF(G4<0,"Overlapper forrige vakt",IF(G4<11,"Under 11 t hvile",""))) | I4: =IF(OR(B4="",C4=""),"",ROUND((B4+C4)*1440,0)) -> 66715140 | J4: =IF(OR(B4="",C4="",D4=""),"",ROUND((B4+D4+IF(D4<=C4,1,0))*1440,0)) -> 66715620
A5: Eksempel Ola | B5: 46330 | C5: 0.625 | D5: 0.95833333 | E5: Lager | F5: =IF(OR(I5="",J5=""),"",(J5-I5)/60) -> 8 | G5: =IF(I5="","",IF(COUNTIFS($A$2:$A$500,A5,$I$2:$I$500,"<"&I5)=0,"",(I5-_xlfn.MAXIFS($J$2:$J$500,$A$2:$A$500,A5,$I$2:$I$500,"<"&I5))/60)) -> 8 | H5: =IF(G5="","",IF(G5<0,"Overlapper forrige vakt",IF(G5<11,"Under 11 t hvile",""))) -> Under 11 t hvile | I5: =IF(OR(B5="",C5=""),"",ROUND((B5+C5)*1440,0)) -> 66716100 | J5: =IF(OR(B5="",C5="",D5=""),"",ROUND((B5+D5+IF(D5<=C5,1,0))*1440,0)) -> 66716580
A6: Eksempel Ola | B6: 46331 | C6: 0.41666667 | D6: 0.75 | E6: Butikk sentrum | F6: =IF(OR(I6="",J6=""),"",(J6-I6)/60) -> 8 | G6: =IF(I6="","",IF(COUNTIFS($A$2:$A$500,A6,$I$2:$I$500,"<"&I6)=0,"",(I6-_xlfn.MAXIFS($J$2:$J$500,$A$2:$A$500,A6,$I$2:$I$500,"<"&I6))/60)) -> 11 | H6: =IF(G6="","",IF(G6<0,"Overlapper forrige vakt",IF(G6<11,"Under 11 t hvile",""))) | I6: =IF(OR(B6="",C6=""),"",ROUND((B6+C6)*1440,0)) -> 66717240 | J6: =IF(OR(B6="",C6="",D6=""),"",ROUND((B6+D6+IF(D6<=C6,1,0))*1440,0)) -> 66717720
F7: =IF(OR(I7="",J7=""),"",(J7-I7)/60) | G7: =IF(I7="","",IF(COUNTIFS($A$2:$A$500,A7,$I$2:$I$500,"<"&I7)=0,"",(I7-_xlfn.MAXIFS($J$2:$J$500,$A$2:$A$500,A7,$I$2:$I$500,"<"&I7))/60)) | H7: =IF(G7="","",IF(G7<0,"Overlapper forrige vakt",IF(G7<11,"Under 11 t hvile",""))) | I7: =IF(OR(B7="",C7=""),"",ROUND((B7+C7)*1440,0)) | J7: =IF(OR(B7="",C7="",D7=""),"",ROUND((B7+D7+IF(D7<=C7,1,0))*1440,0))
F8: =IF(OR(I8="",J8=""),"",(J8-I8)/60) | G8: =IF(I8="","",IF(COUNTIFS($A$2:$A$500,A8,$I$2:$I$500,"<"&I8)=0,"",(I8-_xlfn.MAXIFS($J$2:$J$500,$A$2:$A$500,A8,$I$2:$I$500,"<"&I8))/60)) | H8: =IF(G8="","",IF(G8<0,"Overlapper forrige vakt",IF(G8<11,"Under 11 t hvile",""))) | I8: =IF(OR(B8="",C8=""),"",ROUND((B8+C8)*1440,0)) | J8: =IF(OR(B8="",C8="",D8=""),"",ROUND((B8+D8+IF(D8<=C8,1,0))*1440,0))
F9: =IF(OR(I9="",J9=""),"",(J9-I9)/60) | G9: =IF(I9="","",IF(COUNTIFS($A$2:$A$500,A9,$I$2:$I$500,"<"&I9)=0,"",(I9-_xlfn.MAXIFS($J$2:$J$500,$A$2:$A$500,A9,$I$2:$I$500,"<"&I9))/60)) | H9: =IF(G9="","",IF(G9<0,"Overlapper forrige vakt",IF(G9<11,"Under 11 t hvile",""))) | I9: =IF(OR(B9="",C9=""),"",ROUND((B9+C9)*1440,0)) | J9: =IF(OR(B9="",C9="",D9=""),"",ROUND((B9+D9+IF(D9<=C9,1,0))*1440,0))
F10: =IF(OR(I10="",J10=""),"",(J10-I10)/60) | G10: =IF(I10="","",IF(COUNTIFS($A$2:$A$500,A10,$I$2:$I$500,"<"&I10)=0,"",(I10-_xlfn.MAXIFS($J$2:$J$500,$A$2:$A$500,A10,$I$2:$I$500,"<"&I10))/60)) | H10: =IF(G10="","",IF(G10<0,"Overlapper forrige vakt",IF(G10<11,"Under 11 t hvile",""))) | I10: =IF(OR(B10="",C10=""),"",ROUND((B10+C10)*1440,0)) | J10: =IF(OR(B10="",C10="",D10=""),"",ROUND((B10+D10+IF(D10<=C10,1,0))*1440,0))
F11: =IF(OR(I11="",J11=""),"",(J11-I11)/60) | G11: =IF(I11="","",IF(COUNTIFS($A$2:$A$500,A11,$I$2:$I$500,"<"&I11)=0,"",(I11-_xlfn.MAXIFS($J$2:$J$500,$A$2:$A$500,A11,$I$2:$I$500,"<"&I11))/60)) | H11: =IF(G11="","",IF(G11<0,"Overlapper forrige vakt",IF(G11<11,"Under 11 t hvile",""))) | I11: =IF(OR(B11="",C11=""),"",ROUND((B11+C11)*1440,0)) | J11: =IF(OR(B11="",C11="",D11=""),"",ROUND((B11+D11+IF(D11<=C11,1,0))*1440,0))
F12: =IF(OR(I12="",J12=""),"",(J12-I12)/60) | G12: =IF(I12="","",IF(COUNTIFS($A$2:$A$500,A12,$I$2:$I$500,"<"&I12)=0,"",(I12-_xlfn.MAXIFS($J$2:$J$500,$A$2:$A$500,A12,$I$2:$I$500,"<"&I12))/60)) | H12: =IF(G12="","",IF(G12<0,"Overlapper forrige vakt",IF(G12<11,"Under 11 t hvile",""))) | I12: =IF(OR(B12="",C12=""),"",ROUND((B12+C12)*1440,0)) | J12: =IF(OR(B12="",C12="",D12=""),"",ROUND((B12+D12+IF(D12<=C12,1,0))*1440,0))
F13: =IF(OR(I13="",J13=""),"",(J13-I13)/60) | G13: =IF(I13="","",IF(COUNTIFS($A$2:$A$500,A13,$I$2:$I$500,"<"&I13)=0,"",(I13-_xlfn.MAXIFS($J$2:$J$500,$A$2:$A$500,A13,$I$2:$I$500,"<"&I13))/60)) | H13: =IF(G13="","",IF(G13<0,"Overlapper forrige vakt",IF(G13<11,"Under 11 t hvile",""))) | I13: =IF(OR(B13="",C13=""),"",ROUND((B13+C13)*1440,0)) | J13: =IF(OR(B13="",C13="",D13=""),"",ROUND((B13+D13+IF(D13<=C13,1,0))*1440,0))
F14: =IF(OR(I14="",J14=""),"",(J14-I14)/60) | G14: =IF(I14="","",IF(COUNTIFS($A$2:$A$500,A14,$I$2:$I$500,"<"&I14)=0,"",(I14-_xlfn.MAXIFS($J$2:$J$500,$A$2:$A$500,A14,$I$2:$I$500,"<"&I14))/60)) | H14: =IF(G14="","",IF(G14<0,"Overlapper forrige vakt",IF(G14<11,"Under 11 t hvile",""))) | I14: =IF(OR(B14="",C14=""),"",ROUND((B14+C14)*1440,0)) | J14: =IF(OR(B14="",C14="",D14=""),"",ROUND((B14+D14+IF(D14<=C14,1,0))*1440,0))
F15: =IF(OR(I15="",J15=""),"",(J15-I15)/60) | G15: =IF(I15="","",IF(COUNTIFS($A$2:$A$500,A15,$I$2:$I$500,"<"&I15)=0,"",(I15-_xlfn.MAXIFS($J$2:$J$500,$A$2:$A$500,A15,$I$2:$I$500,"<"&I15))/60)) | H15: =IF(G15="","",IF(G15<0,"Overlapper forrige vakt",IF(G15<11,"Under 11 t hvile",""))) | I15: =IF(OR(B15="",C15=""),"",ROUND((B15+C15)*1440,0)) | J15: =IF(OR(B15="",C15="",D15=""),"",ROUND((B15+D15+IF(D15<=C15,1,0))*1440,0))
F16: =IF(OR(I16="",J16=""),"",(J16-I16)/60) | G16: =IF(I16="","",IF(COUNTIFS($A$2:$A$500,A16,$I$2:$I$500,"<"&I16)=0,"",(I16-_xlfn.MAXIFS($J$2:$J$500,$A$2:$A$500,A16,$I$2:$I$500,"<"&I16))/60)) | H16: =IF(G16="","",IF(G16<0,"Overlapper forrige vakt",IF(G16<11,"Under 11 t hvile",""))) | I16: =IF(OR(B16="",C16=""),"",ROUND((B16+C16)*1440,0)) | J16: =IF(OR(B16="",C16="",D16=""),"",ROUND((B16+D16+IF(D16<=C16,1,0))*1440,0))
F17: =IF(OR(I17="",J17=""),"",(J17-I17)/60) | G17: =IF(I17="","",IF(COUNTIFS($A$2:$A$500,A17,$I$2:$I$500,"<"&I17)=0,"",(I17-_xlfn.MAXIFS($J$2:$J$500,$A$2:$A$500,A17,$I$2:$I$500,"<"&I17))/60)) | H17: =IF(G17="","",IF(G17<0,"Overlapper forrige vakt",IF(G17<11,"Under 11 t hvile",""))) | I17: =IF(OR(B17="",C17=""),"",ROUND((B17+C17)*1440,0)) | J17: =IF(OR(B17="",C17="",D17=""),"",ROUND((B17+D17+IF(D17<=C17,1,0))*1440,0))
F18: =IF(OR(I18="",J18=""),"",(J18-I18)/60) | G18: =IF(I18="","",IF(COUNTIFS($A$2:$A$500,A18,$I$2:$I$500,"<"&I18)=0,"",(I18-_xlfn.MAXIFS($J$2:$J$500,$A$2:$A$500,A18,$I$2:$I$500,"<"&I18))/60)) | H18: =IF(G18="","",IF(G18<0,"Overlapper forrige vakt",IF(G18<11,"Under 11 t hvile",""))) | I18: =IF(OR(B18="",C18=""),"",ROUND((B18+C18)*1440,0)) | J18: =IF(OR(B18="",C18="",D18=""),"",ROUND((B18+D18+IF(D18<=C18,1,0))*1440,0))
... F101: =IF(OR(I101="",J101=""),"",(J101-I101)/60) | G101: =IF(I101="","",IF(COUNTIFS($A$2:$A$500,A101,$I$2:$I$500,"<"&I101)=0,"",(I101-_xlfn.MAXIFS($J$2:$J$500,$A$2:$A$500,A101,$I$2:$I$500,"<"&I101))/60)) | H101: =IF(G101="","",IF(G101<0,"Overlapper forrige vakt",IF(G101<11,"Under 11 t hvile",""))) | I101: =IF(OR(B101="",C101=""),"",ROUND((B101+C101)*1440,0)) | J101: =IF(OR(B101="",C101="",D101=""),"",ROUND((B101+D101+IF(D101<=C101,1,0))*1440,0))

Sheet Uke
A1: Uke som starter mandag | B1: =IF(COUNT(Vaktliste!$B$2:$B$500)=0,"",MIN(Vaktliste!$B$2:$B$500)-WEEKDAY(MIN(Vaktliste!$B$2:$B$500),2)+1) -> 46328
A2: B1 finner mandagen i uken med den første datoen i Vaktliste. Du kan skrive en annen mandag der. Skriv navnene i kolonne A nøyaktig som i Vaktliste. Timene telles på datoen vakten starter.
A3: Ansatt | B3: =IF($B$1="","",$B$1+0) -> 46328 | C3: =IF($B$1="","",$B$1+1) -> 46329 | D3: =IF($B$1="","",$B$1+2) -> 46330 | E3: =IF($B$1="","",$B$1+3) -> 46331 | F3: =IF($B$1="","",$B$1+4) -> 46332 | G3: =IF($B$1="","",$B$1+5) -> 46333 | H3: =IF($B$1="","",$B$1+6) -> 46334 | I3: Sum timer | J3: Vakter | K3: Hvilevarsler
A4: Eksempel Kari | B4: =IF(OR($A4="",B$3=""),"",SUMIFS(Vaktliste!$F$2:$F$500,Vaktliste!$A$2:$A$500,$A4,Vaktliste!$B$2:$B$500,B$3)) -> 8 | C4: =IF(OR($A4="",C$3=""),"",SUMIFS(Vaktliste!$F$2:$F$500,Vaktliste!$A$2:$A$500,$A4,Vaktliste!$B$2:$B$500,C$3)) -> 8 | D4: =IF(OR($A4="",D$3=""),"",SUMIFS(Vaktliste!$F$2:$F$500,Vaktliste!$A$2:$A$500,$A4,Vaktliste!$B$2:$B$500,D$3)) -> 0 | E4: =IF(OR($A4="",E$3=""),"",SUMIFS(Vaktliste!$F$2:$F$500,Vaktliste!$A$2:$A$500,$A4,Vaktliste!$B$2:$B$500,E$3)) -> 0 | F4: =IF(OR($A4="",F$3=""),"",SUMIFS(Vaktliste!$F$2:$F$500,Vaktliste!$A$2:$A$500,$A4,Vaktliste!$B$2:$B$500,F$3)) -> 0 | G4: =IF(OR($A4="",G$3=""),"",SUMIFS(Vaktliste!$F$2:$F$500,Vaktliste!$A$2:$A$500,$A4,Vaktliste!$B$2:$B$500,G$3)) -> 0 | H4: =IF(OR($A4="",H$3=""),"",SUMIFS(Vaktliste!$F$2:$F$500,Vaktliste!$A$2:$A$500,$A4,Vaktliste!$B$2:$B$500,H$3)) -> 0 | I4: =IF($A4="","",SUM(B4:H4)) -> 16 | J4: =IF(OR($A4="",$B$1=""),"",COUNTIFS(Vaktliste!$A$2:$A$500,$A4,Vaktliste!$B$2:$B$500,">="&$B$1,Vaktliste!$B$2:$B$500,"<"&($B$1+7))) -> 2 | K4: =IF(OR($A4="",$B$1=""),"",COUNTIFS(Vaktliste!$A$2:$A$500,$A4,Vaktliste!$B$2:$B$500,">="&$B$1,Vaktliste!$B$2:$B$500,"<"&($B$1+7),Vaktliste!$H$2:$H$500,"Under 11 t hvile")+COUNTIFS(Vaktliste!$A$2:$A$500,$A4,Vaktliste!$B$2:$B$500,">="&$B$1,Vaktliste!$B$2:$B$500,"<"&($B$1+7),Vaktliste!$H$2:$H$500,"Overlapper forrige vakt")) -> 1
A5: Eksempel Ola | B5: =IF(OR($A5="",B$3=""),"",SUMIFS(Vaktliste!$F$2:$F$500,Vaktliste!$A$2:$A$500,$A5,Vaktliste!$B$2:$B$500,B$3)) -> 0 | C5: =IF(OR($A5="",C$3=""),"",SUMIFS(Vaktliste!$F$2:$F$500,Vaktliste!$A$2:$A$500,$A5,Vaktliste!$B$2:$B$500,C$3)) -> 8 | D5: =IF(OR($A5="",D$3=""),"",SUMIFS(Vaktliste!$F$2:$F$500,Vaktliste!$A$2:$A$500,$A5,Vaktliste!$B$2:$B$500,D$3)) -> 8 | E5: =IF(OR($A5="",E$3=""),"",SUMIFS(Vaktliste!$F$2:$F$500,Vaktliste!$A$2:$A$500,$A5,Vaktliste!$B$2:$B$500,E$3)) -> 8 | F5: =IF(OR($A5="",F$3=""),"",SUMIFS(Vaktliste!$F$2:$F$500,Vaktliste!$A$2:$A$500,$A5,Vaktliste!$B$2:$B$500,F$3)) -> 0 | G5: =IF(OR($A5="",G$3=""),"",SUMIFS(Vaktliste!$F$2:$F$500,Vaktliste!$A$2:$A$500,$A5,Vaktliste!$B$2:$B$500,G$3)) -> 0 | H5: =IF(OR($A5="",H$3=""),"",SUMIFS(Vaktliste!$F$2:$F$500,Vaktliste!$A$2:$A$500,$A5,Vaktliste!$B$2:$B$500,H$3)) -> 0 | I5: =IF($A5="","",SUM(B5:H5)) -> 24 | J5: =IF(OR($A5="",$B$1=""),"",COUNTIFS(Vaktliste!$A$2:$A$500,$A5,Vaktliste!$B$2:$B$500,">="&$B$1,Vaktliste!$B$2:$B$500,"<"&($B$1+7))) -> 3 | K5: =IF(OR($A5="",$B$1=""),"",COUNTIFS(Vaktliste!$A$2:$A$500,$A5,Vaktliste!$B$2:$B$500,">="&$B$1,Vaktliste!$B$2:$B$500,"<"&($B$1+7),Vaktliste!$H$2:$H$500,"Under 11 t hvile")+COUNTIFS(Vaktliste!$A$2:$A$500,$A5,Vaktliste!$B$2:$B$500,">="&$B$1,Vaktliste!$B$2:$B$500,"<"&($B$1+7),Vaktliste!$H$2:$H$500,"Overlapper forrige vakt")) -> 1
B6: =IF(OR($A6="",B$3=""),"",SUMIFS(Vaktliste!$F$2:$F$500,Vaktliste!$A$2:$A$500,$A6,Vaktliste!$B$2:$B$500,B$3)) | C6: =IF(OR($A6="",C$3=""),"",SUMIFS(Vaktliste!$F$2:$F$500,Vaktliste!$A$2:$A$500,$A6,Vaktliste!$B$2:$B$500,C$3)) | D6: =IF(OR($A6="",D$3=""),"",SUMIFS(Vaktliste!$F$2:$F$500,Vaktliste!$A$2:$A$500,$A6,Vaktliste!$B$2:$B$500,D$3)) | E6: =IF(OR($A6="",E$3=""),"",SUMIFS(Vaktliste!$F$2:$F$500,Vaktliste!$A$2:$A$500,$A6,Vaktliste!$B$2:$B$500,E$3)) | F6: =IF(OR($A6="",F$3=""),"",SUMIFS(Vaktliste!$F$2:$F$500,Vaktliste!$A$2:$A$500,$A6,Vaktliste!$B$2:$B$500,F$3)) | G6: =IF(OR($A6="",G$3=""),"",SUMIFS(Vaktliste!$F$2:$F$500,Vaktliste!$A$2:$A$500,$A6,Vaktliste!$B$2:$B$500,G$3)) | H6: =IF(OR($A6="",H$3=""),"",SUMIFS(Vaktliste!$F$2:$F$500,Vaktliste!$A$2:$A$500,$A6,Vaktliste!$B$2:$B$500,H$3)) | I6: =IF($A6="","",SUM(B6:H6)) | J6: =IF(OR($A6="",$B$1=""),"",COUNTIFS(Vaktliste!$A$2:$A$500,$A6,Vaktliste!$B$2:$B$500,">="&$B$1,Vaktliste!$B$2:$B$500,"<"&($B$1+7))) | K6: =IF(OR($A6="",$B$1=""),"",COUNTIFS(Vaktliste!$A$2:$A$500,$A6,Vaktliste!$B$2:$B$500,">="&$B$1,Vaktliste!$B$2:$B$500,"<"&($B$1+7),Vaktliste!$H$2:$H$500,"Under 11 t hvile")+COUNTIFS(Vaktliste!$A$2:$A$500,$A6,Vaktliste!$B$2:$B$500,">="&$B$1,Vaktliste!$B$2:$B$500,"<"&($B$1+7),Vaktliste!$H$2:$H$500,"Overlapper forrige vakt"))
B7: =IF(OR($A7="",B$3=""),"",SUMIFS(Vaktliste!$F$2:$F$500,Vaktliste!$A$2:$A$500,$A7,Vaktliste!$B$2:$B$500,B$3)) | C7: =IF(OR($A7="",C$3=""),"",SUMIFS(Vaktliste!$F$2:$F$500,Vaktliste!$A$2:$A$500,$A7,Vaktliste!$B$2:$B$500,C$3)) | D7: =IF(OR($A7="",D$3=""),"",SUMIFS(Vaktliste!$F$2:$F$500,Vaktliste!$A$2:$A$500,$A7,Vaktliste!$B$2:$B$500,D$3)) | E7: =IF(OR($A7="",E$3=""),"",SUMIFS(Vaktliste!$F$2:$F$500,Vaktliste!$A$2:$A$500,$A7,Vaktliste!$B$2:$B$500,E$3)) | F7: =IF(OR($A7="",F$3=""),"",SUMIFS(Vaktliste!$F$2:$F$500,Vaktliste!$A$2:$A$500,$A7,Vaktliste!$B$2:$B$500,F$3)) | G7: =IF(OR($A7="",G$3=""),"",SUMIFS(Vaktliste!$F$2:$F$500,Vaktliste!$A$2:$A$500,$A7,Vaktliste!$B$2:$B$500,G$3)) | H7: =IF(OR($A7="",H$3=""),"",SUMIFS(Vaktliste!$F$2:$F$500,Vaktliste!$A$2:$A$500,$A7,Vaktliste!$B$2:$B$500,H$3)) | I7: =IF($A7="","",SUM(B7:H7)) | J7: =IF(OR($A7="",$B$1=""),"",COUNTIFS(Vaktliste!$A$2:$A$500,$A7,Vaktliste!$B$2:$B$500,">="&$B$1,Vaktliste!$B$2:$B$500,"<"&($B$1+7))) | K7: =IF(OR($A7="",$B$1=""),"",COUNTIFS(Vaktliste!$A$2:$A$500,$A7,Vaktliste!$B$2:$B$500,">="&$B$1,Vaktliste!$B$2:$B$500,"<"&($B$1+7),Vaktliste!$H$2:$H$500,"Under 11 t hvile")+COUNTIFS(Vaktliste!$A$2:$A$500,$A7,Vaktliste!$B$2:$B$500,">="&$B$1,Vaktliste!$B$2:$B$500,"<"&($B$1+7),Vaktliste!$H$2:$H$500,"Overlapper forrige vakt"))
B8: =IF(OR($A8="",B$3=""),"",SUMIFS(Vaktliste!$F$2:$F$500,Vaktliste!$A$2:$A$500,$A8,Vaktliste!$B$2:$B$500,B$3)) | C8: =IF(OR($A8="",C$3=""),"",SUMIFS(Vaktliste!$F$2:$F$500,Vaktliste!$A$2:$A$500,$A8,Vaktliste!$B$2:$B$500,C$3)) | D8: =IF(OR($A8="",D$3=""),"",SUMIFS(Vaktliste!$F$2:$F$500,Vaktliste!$A$2:$A$500,$A8,Vaktliste!$B$2:$B$500,D$3)) | E8: =IF(OR($A8="",E$3=""),"",SUMIFS(Vaktliste!$F$2:$F$500,Vaktliste!$A$2:$A$500,$A8,Vaktliste!$B$2:$B$500,E$3)) | F8: =IF(OR($A8="",F$3=""),"",SUMIFS(Vaktliste!$F$2:$F$500,Vaktliste!$A$2:$A$500,$A8,Vaktliste!$B$2:$B$500,F$3)) | G8: =IF(OR($A8="",G$3=""),"",SUMIFS(Vaktliste!$F$2:$F$500,Vaktliste!$A$2:$A$500,$A8,Vaktliste!$B$2:$B$500,G$3)) | H8: =IF(OR($A8="",H$3=""),"",SUMIFS(Vaktliste!$F$2:$F$500,Vaktliste!$A$2:$A$500,$A8,Vaktliste!$B$2:$B$500,H$3)) | I8: =IF($A8="","",SUM(B8:H8)) | J8: =IF(OR($A8="",$B$1=""),"",COUNTIFS(Vaktliste!$A$2:$A$500,$A8,Vaktliste!$B$2:$B$500,">="&$B$1,Vaktliste!$B$2:$B$500,"<"&($B$1+7))) | K8: =IF(OR($A8="",$B$1=""),"",COUNTIFS(Vaktliste!$A$2:$A$500,$A8,Vaktliste!$B$2:$B$500,">="&$B$1,Vaktliste!$B$2:$B$500,"<"&($B$1+7),Vaktliste!$H$2:$H$500,"Under 11 t hvile")+COUNTIFS(Vaktliste!$A$2:$A$500,$A8,Vaktliste!$B$2:$B$500,">="&$B$1,Vaktliste!$B$2:$B$500,"<"&($B$1+7),Vaktliste!$H$2:$H$500,"Overlapper forrige vakt"))
B9: =IF(OR($A9="",B$3=""),"",SUMIFS(Vaktliste!$F$2:$F$500,Vaktliste!$A$2:$A$500,$A9,Vaktliste!$B$2:$B$500,B$3)) | C9: =IF(OR($A9="",C$3=""),"",SUMIFS(Vaktliste!$F$2:$F$500,Vaktliste!$A$2:$A$500,$A9,Vaktliste!$B$2:$B$500,C$3)) | D9: =IF(OR($A9="",D$3=""),"",SUMIFS(Vaktliste!$F$2:$F$500,Vaktliste!$A$2:$A$500,$A9,Vaktliste!$B$2:$B$500,D$3)) | E9: =IF(OR($A9="",E$3=""),"",SUMIFS(Vaktliste!$F$2:$F$500,Vaktliste!$A$2:$A$500,$A9,Vaktliste!$B$2:$B$500,E$3)) | F9: =IF(OR($A9="",F$3=""),"",SUMIFS(Vaktliste!$F$2:$F$500,Vaktliste!$A$2:$A$500,$A9,Vaktliste!$B$2:$B$500,F$3)) | G9: =IF(OR($A9="",G$3=""),"",SUMIFS(Vaktliste!$F$2:$F$500,Vaktliste!$A$2:$A$500,$A9,Vaktliste!$B$2:$B$500,G$3)) | H9: =IF(OR($A9="",H$3=""),"",SUMIFS(Vaktliste!$F$2:$F$500,Vaktliste!$A$2:$A$500,$A9,Vaktliste!$B$2:$B$500,H$3)) | I9: =IF($A9="","",SUM(B9:H9)) | J9: =IF(OR($A9="",$B$1=""),"",COUNTIFS(Vaktliste!$A$2:$A$500,$A9,Vaktliste!$B$2:$B$500,">="&$B$1,Vaktliste!$B$2:$B$500,"<"&($B$1+7))) | K9: =IF(OR($A9="",$B$1=""),"",COUNTIFS(Vaktliste!$A$2:$A$500,$A9,Vaktliste!$B$2:$B$500,">="&$B$1,Vaktliste!$B$2:$B$500,"<"&($B$1+7),Vaktliste!$H$2:$H$500,"Under 11 t hvile")+COUNTIFS(Vaktliste!$A$2:$A$500,$A9,Vaktliste!$B$2:$B$500,">="&$B$1,Vaktliste!$B$2:$B$500,"<"&($B$1+7),Vaktliste!$H$2:$H$500,"Overlapper forrige vakt"))
B10: =IF(OR($A10="",B$3=""),"",SUMIFS(Vaktliste!$F$2:$F$500,Vaktliste!$A$2:$A$500,$A10,Vaktliste!$B$2:$B$500,B$3)) | C10: =IF(OR($A10="",C$3=""),"",SUMIFS(Vaktliste!$F$2:$F$500,Vaktliste!$A$2:$A$500,$A10,Vaktliste!$B$2:$B$500,C$3)) | D10: =IF(OR($A10="",D$3=""),"",SUMIFS(Vaktliste!$F$2:$F$500,Vaktliste!$A$2:$A$500,$A10,Vaktliste!$B$2:$B$500,D$3)) | E10: =IF(OR($A10="",E$3=""),"",SUMIFS(Vaktliste!$F$2:$F$500,Vaktliste!$A$2:$A$500,$A10,Vaktliste!$B$2:$B$500,E$3)) | F10: =IF(OR($A10="",F$3=""),"",SUMIFS(Vaktliste!$F$2:$F$500,Vaktliste!$A$2:$A$500,$A10,Vaktliste!$B$2:$B$500,F$3)) | G10: =IF(OR($A10="",G$3=""),"",SUMIFS(Vaktliste!$F$2:$F$500,Vaktliste!$A$2:$A$500,$A10,Vaktliste!$B$2:$B$500,G$3)) | H10: =IF(OR($A10="",H$3=""),"",SUMIFS(Vaktliste!$F$2:$F$500,Vaktliste!$A$2:$A$500,$A10,Vaktliste!$B$2:$B$500,H$3)) | I10: =IF($A10="","",SUM(B10:H10)) | J10: =IF(OR($A10="",$B$1=""),"",COUNTIFS(Vaktliste!$A$2:$A$500,$A10,Vaktliste!$B$2:$B$500,">="&$B$1,Vaktliste!$B$2:$B$500,"<"&($B$1+7))) | K10: =IF(OR($A10="",$B$1=""),"",COUNTIFS(Vaktliste!$A$2:$A$500,$A10,Vaktliste!$B$2:$B$500,">="&$B$1,Vaktliste!$B$2:$B$500,"<"&($B$1+7),Vaktliste!$H$2:$H$500,"Under 11 t hvile")+COUNTIFS(Vaktliste!$A$2:$A$500,$A10,Vaktliste!$B$2:$B$500,">="&$B$1,Vaktliste!$B$2:$B$500,"<"&($B$1+7),Vaktliste!$H$2:$H$500,"Overlapper forrige vakt"))
B11: =IF(OR($A11="",B$3=""),"",SUMIFS(Vaktliste!$F$2:$F$500,Vaktliste!$A$2:$A$500,$A11,Vaktliste!$B$2:$B$500,B$3)) | C11: =IF(OR($A11="",C$3=""),"",SUMIFS(Vaktliste!$F$2:$F$500,Vaktliste!$A$2:$A$500,$A11,Vaktliste!$B$2:$B$500,C$3)) | D11: =IF(OR($A11="",D$3=""),"",SUMIFS(Vaktliste!$F$2:$F$500,Vaktliste!$A$2:$A$500,$A11,Vaktliste!$B$2:$B$500,D$3)) | E11: =IF(OR($A11="",E$3=""),"",SUMIFS(Vaktliste!$F$2:$F$500,Vaktliste!$A$2:$A$500,$A11,Vaktliste!$B$2:$B$500,E$3)) | F11: =IF(OR($A11="",F$3=""),"",SUMIFS(Vaktliste!$F$2:$F$500,Vaktliste!$A$2:$A$500,$A11,Vaktliste!$B$2:$B$500,F$3)) | G11: =IF(OR($A11="",G$3=""),"",SUMIFS(Vaktliste!$F$2:$F$500,Vaktliste!$A$2:$A$500,$A11,Vaktliste!$B$2:$B$500,G$3)) | H11: =IF(OR($A11="",H$3=""),"",SUMIFS(Vaktliste!$F$2:$F$500,Vaktliste!$A$2:$A$500,$A11,Vaktliste!$B$2:$B$500,H$3)) | I11: =IF($A11="","",SUM(B11:H11)) | J11: =IF(OR($A11="",$B$1=""),"",COUNTIFS(Vaktliste!$A$2:$A$500,$A11,Vaktliste!$B$2:$B$500,">="&$B$1,Vaktliste!$B$2:$B$500,"<"&($B$1+7))) | K11: =IF(OR($A11="",$B$1=""),"",COUNTIFS(Vaktliste!$A$2:$A$500,$A11,Vaktliste!$B$2:$B$500,">="&$B$1,Vaktliste!$B$2:$B$500,"<"&($B$1+7),Vaktliste!$H$2:$H$500,"Under 11 t hvile")+COUNTIFS(Vaktliste!$A$2:$A$500,$A11,Vaktliste!$B$2:$B$500,">="&$B$1,Vaktliste!$B$2:$B$500,"<"&($B$1+7),Vaktliste!$H$2:$H$500,"Overlapper forrige vakt"))
B12: =IF(OR($A12="",B$3=""),"",SUMIFS(Vaktliste!$F$2:$F$500,Vaktliste!$A$2:$A$500,$A12,Vaktliste!$B$2:$B$500,B$3)) | C12: =IF(OR($A12="",C$3=""),"",SUMIFS(Vaktliste!$F$2:$F$500,Vaktliste!$A$2:$A$500,$A12,Vaktliste!$B$2:$B$500,C$3)) | D12: =IF(OR($A12="",D$3=""),"",SUMIFS(Vaktliste!$F$2:$F$500,Vaktliste!$A$2:$A$500,$A12,Vaktliste!$B$2:$B$500,D$3)) | E12: =IF(OR($A12="",E$3=""),"",SUMIFS(Vaktliste!$F$2:$F$500,Vaktliste!$A$2:$A$500,$A12,Vaktliste!$B$2:$B$500,E$3)) | F12: =IF(OR($A12="",F$3=""),"",SUMIFS(Vaktliste!$F$2:$F$500,Vaktliste!$A$2:$A$500,$A12,Vaktliste!$B$2:$B$500,F$3)) | G12: =IF(OR($A12="",G$3=""),"",SUMIFS(Vaktliste!$F$2:$F$500,Vaktliste!$A$2:$A$500,$A12,Vaktliste!$B$2:$B$500,G$3)) | H12: =IF(OR($A12="",H$3=""),"",SUMIFS(Vaktliste!$F$2:$F$500,Vaktliste!$A$2:$A$500,$A12,Vaktliste!$B$2:$B$500,H$3)) | I12: =IF($A12="","",SUM(B12:H12)) | J12: =IF(OR($A12="",$B$1=""),"",COUNTIFS(Vaktliste!$A$2:$A$500,$A12,Vaktliste!$B$2:$B$500,">="&$B$1,Vaktliste!$B$2:$B$500,"<"&($B$1+7))) | K12: =IF(OR($A12="",$B$1=""),"",COUNTIFS(Vaktliste!$A$2:$A$500,$A12,Vaktliste!$B$2:$B$500,">="&$B$1,Vaktliste!$B$2:$B$500,"<"&($B$1+7),Vaktliste!$H$2:$H$500,"Under 11 t hvile")+COUNTIFS(Vaktliste!$A$2:$A$500,$A12,Vaktliste!$B$2:$B$500,">="&$B$1,Vaktliste!$B$2:$B$500,"<"&($B$1+7),Vaktliste!$H$2:$H$500,"Overlapper forrige vakt"))
B13: =IF(OR($A13="",B$3=""),"",SUMIFS(Vaktliste!$F$2:$F$500,Vaktliste!$A$2:$A$500,$A13,Vaktliste!$B$2:$B$500,B$3)) | C13: =IF(OR($A13="",C$3=""),"",SUMIFS(Vaktliste!$F$2:$F$500,Vaktliste!$A$2:$A$500,$A13,Vaktliste!$B$2:$B$500,C$3)) | D13: =IF(OR($A13="",D$3=""),"",SUMIFS(Vaktliste!$F$2:$F$500,Vaktliste!$A$2:$A$500,$A13,Vaktliste!$B$2:$B$500,D$3)) | E13: =IF(OR($A13="",E$3=""),"",SUMIFS(Vaktliste!$F$2:$F$500,Vaktliste!$A$2:$A$500,$A13,Vaktliste!$B$2:$B$500,E$3)) | F13: =IF(OR($A13="",F$3=""),"",SUMIFS(Vaktliste!$F$2:$F$500,Vaktliste!$A$2:$A$500,$A13,Vaktliste!$B$2:$B$500,F$3)) | G13: =IF(OR($A13="",G$3=""),"",SUMIFS(Vaktliste!$F$2:$F$500,Vaktliste!$A$2:$A$500,$A13,Vaktliste!$B$2:$B$500,G$3)) | H13: =IF(OR($A13="",H$3=""),"",SUMIFS(Vaktliste!$F$2:$F$500,Vaktliste!$A$2:$A$500,$A13,Vaktliste!$B$2:$B$500,H$3)) | I13: =IF($A13="","",SUM(B13:H13)) | J13: =IF(OR($A13="",$B$1=""),"",COUNTIFS(Vaktliste!$A$2:$A$500,$A13,Vaktliste!$B$2:$B$500,">="&$B$1,Vaktliste!$B$2:$B$500,"<"&($B$1+7))) | K13: =IF(OR($A13="",$B$1=""),"",COUNTIFS(Vaktliste!$A$2:$A$500,$A13,Vaktliste!$B$2:$B$500,">="&$B$1,Vaktliste!$B$2:$B$500,"<"&($B$1+7),Vaktliste!$H$2:$H$500,"Under 11 t hvile")+COUNTIFS(Vaktliste!$A$2:$A$500,$A13,Vaktliste!$B$2:$B$500,">="&$B$1,Vaktliste!$B$2:$B$500,"<"&($B$1+7),Vaktliste!$H$2:$H$500,"Overlapper forrige vakt"))
B14: =IF(OR($A14="",B$3=""),"",SUMIFS(Vaktliste!$F$2:$F$500,Vaktliste!$A$2:$A$500,$A14,Vaktliste!$B$2:$B$500,B$3)) | C14: =IF(OR($A14="",C$3=""),"",SUMIFS(Vaktliste!$F$2:$F$500,Vaktliste!$A$2:$A$500,$A14,Vaktliste!$B$2:$B$500,C$3)) | D14: =IF(OR($A14="",D$3=""),"",SUMIFS(Vaktliste!$F$2:$F$500,Vaktliste!$A$2:$A$500,$A14,Vaktliste!$B$2:$B$500,D$3)) | E14: =IF(OR($A14="",E$3=""),"",SUMIFS(Vaktliste!$F$2:$F$500,Vaktliste!$A$2:$A$500,$A14,Vaktliste!$B$2:$B$500,E$3)) | F14: =IF(OR($A14="",F$3=""),"",SUMIFS(Vaktliste!$F$2:$F$500,Vaktliste!$A$2:$A$500,$A14,Vaktliste!$B$2:$B$500,F$3)) | G14: =IF(OR($A14="",G$3=""),"",SUMIFS(Vaktliste!$F$2:$F$500,Vaktliste!$A$2:$A$500,$A14,Vaktliste!$B$2:$B$500,G$3)) | H14: =IF(OR($A14="",H$3=""),"",SUMIFS(Vaktliste!$F$2:$F$500,Vaktliste!$A$2:$A$500,$A14,Vaktliste!$B$2:$B$500,H$3)) | I14: =IF($A14="","",SUM(B14:H14)) | J14: =IF(OR($A14="",$B$1=""),"",COUNTIFS(Vaktliste!$A$2:$A$500,$A14,Vaktliste!$B$2:$B$500,">="&$B$1,Vaktliste!$B$2:$B$500,"<"&($B$1+7))) | K14: =IF(OR($A14="",$B$1=""),"",COUNTIFS(Vaktliste!$A$2:$A$500,$A14,Vaktliste!$B$2:$B$500,">="&$B$1,Vaktliste!$B$2:$B$500,"<"&($B$1+7),Vaktliste!$H$2:$H$500,"Under 11 t hvile")+COUNTIFS(Vaktliste!$A$2:$A$500,$A14,Vaktliste!$B$2:$B$500,">="&$B$1,Vaktliste!$B$2:$B$500,"<"&($B$1+7),Vaktliste!$H$2:$H$500,"Overlapper forrige vakt"))
B15: =IF(OR($A15="",B$3=""),"",SUMIFS(Vaktliste!$F$2:$F$500,Vaktliste!$A$2:$A$500,$A15,Vaktliste!$B$2:$B$500,B$3)) | C15: =IF(OR($A15="",C$3=""),"",SUMIFS(Vaktliste!$F$2:$F$500,Vaktliste!$A$2:$A$500,$A15,Vaktliste!$B$2:$B$500,C$3)) | D15: =IF(OR($A15="",D$3=""),"",SUMIFS(Vaktliste!$F$2:$F$500,Vaktliste!$A$2:$A$500,$A15,Vaktliste!$B$2:$B$500,D$3)) | E15: =IF(OR($A15="",E$3=""),"",SUMIFS(Vaktliste!$F$2:$F$500,Vaktliste!$A$2:$A$500,$A15,Vaktliste!$B$2:$B$500,E$3)) | F15: =IF(OR($A15="",F$3=""),"",SUMIFS(Vaktliste!$F$2:$F$500,Vaktliste!$A$2:$A$500,$A15,Vaktliste!$B$2:$B$500,F$3)) | G15: =IF(OR($A15="",G$3=""),"",SUMIFS(Vaktliste!$F$2:$F$500,Vaktliste!$A$2:$A$500,$A15,Vaktliste!$B$2:$B$500,G$3)) | H15: =IF(OR($A15="",H$3=""),"",SUMIFS(Vaktliste!$F$2:$F$500,Vaktliste!$A$2:$A$500,$A15,Vaktliste!$B$2:$B$500,H$3)) | I15: =IF($A15="","",SUM(B15:H15)) | J15: =IF(OR($A15="",$B$1=""),"",COUNTIFS(Vaktliste!$A$2:$A$500,$A15,Vaktliste!$B$2:$B$500,">="&$B$1,Vaktliste!$B$2:$B$500,"<"&($B$1+7))) | K15: =IF(OR($A15="",$B$1=""),"",COUNTIFS(Vaktliste!$A$2:$A$500,$A15,Vaktliste!$B$2:$B$500,">="&$B$1,Vaktliste!$B$2:$B$500,"<"&($B$1+7),Vaktliste!$H$2:$H$500,"Under 11 t hvile")+COUNTIFS(Vaktliste!$A$2:$A$500,$A15,Vaktliste!$B$2:$B$500,">="&$B$1,Vaktliste!$B$2:$B$500,"<"&($B$1+7),Vaktliste!$H$2:$H$500,"Overlapper forrige vakt"))
B16: =IF(OR($A16="",B$3=""),"",SUMIFS(Vaktliste!$F$2:$F$500,Vaktliste!$A$2:$A$500,$A16,Vaktliste!$B$2:$B$500,B$3)) | C16: =IF(OR($A16="",C$3=""),"",SUMIFS(Vaktliste!$F$2:$F$500,Vaktliste!$A$2:$A$500,$A16,Vaktliste!$B$2:$B$500,C$3)) | D16: =IF(OR($A16="",D$3=""),"",SUMIFS(Vaktliste!$F$2:$F$500,Vaktliste!$A$2:$A$500,$A16,Vaktliste!$B$2:$B$500,D$3)) | E16: =IF(OR($A16="",E$3=""),"",SUMIFS(Vaktliste!$F$2:$F$500,Vaktliste!$A$2:$A$500,$A16,Vaktliste!$B$2:$B$500,E$3)) | F16: =IF(OR($A16="",F$3=""),"",SUMIFS(Vaktliste!$F$2:$F$500,Vaktliste!$A$2:$A$500,$A16,Vaktliste!$B$2:$B$500,F$3)) | G16: =IF(OR($A16="",G$3=""),"",SUMIFS(Vaktliste!$F$2:$F$500,Vaktliste!$A$2:$A$500,$A16,Vaktliste!$B$2:$B$500,G$3)) | H16: =IF(OR($A16="",H$3=""),"",SUMIFS(Vaktliste!$F$2:$F$500,Vaktliste!$A$2:$A$500,$A16,Vaktliste!$B$2:$B$500,H$3)) | I16: =IF($A16="","",SUM(B16:H16)) | J16: =IF(OR($A16="",$B$1=""),"",COUNTIFS(Vaktliste!$A$2:$A$500,$A16,Vaktliste!$B$2:$B$500,">="&$B$1,Vaktliste!$B$2:$B$500,"<"&($B$1+7))) | K16: =IF(OR($A16="",$B$1=""),"",COUNTIFS(Vaktliste!$A$2:$A$500,$A16,Vaktliste!$B$2:$B$500,">="&$B$1,Vaktliste!$B$2:$B$500,"<"&($B$1+7),Vaktliste!$H$2:$H$500,"Under 11 t hvile")+COUNTIFS(Vaktliste!$A$2:$A$500,$A16,Vaktliste!$B$2:$B$500,">="&$B$1,Vaktliste!$B$2:$B$500,"<"&($B$1+7),Vaktliste!$H$2:$H$500,"Overlapper forrige vakt"))
B17: =IF(OR($A17="",B$3=""),"",SUMIFS(Vaktliste!$F$2:$F$500,Vaktliste!$A$2:$A$500,$A17,Vaktliste!$B$2:$B$500,B$3)) | C17: =IF(OR($A17="",C$3=""),"",SUMIFS(Vaktliste!$F$2:$F$500,Vaktliste!$A$2:$A$500,$A17,Vaktliste!$B$2:$B$500,C$3)) | D17: =IF(OR($A17="",D$3=""),"",SUMIFS(Vaktliste!$F$2:$F$500,Vaktliste!$A$2:$A$500,$A17,Vaktliste!$B$2:$B$500,D$3)) | E17: =IF(OR($A17="",E$3=""),"",SUMIFS(Vaktliste!$F$2:$F$500,Vaktliste!$A$2:$A$500,$A17,Vaktliste!$B$2:$B$500,E$3)) | F17: =IF(OR($A17="",F$3=""),"",SUMIFS(Vaktliste!$F$2:$F$500,Vaktliste!$A$2:$A$500,$A17,Vaktliste!$B$2:$B$500,F$3)) | G17: =IF(OR($A17="",G$3=""),"",SUMIFS(Vaktliste!$F$2:$F$500,Vaktliste!$A$2:$A$500,$A17,Vaktliste!$B$2:$B$500,G$3)) | H17: =IF(OR($A17="",H$3=""),"",SUMIFS(Vaktliste!$F$2:$F$500,Vaktliste!$A$2:$A$500,$A17,Vaktliste!$B$2:$B$500,H$3)) | I17: =IF($A17="","",SUM(B17:H17)) | J17: =IF(OR($A17="",$B$1=""),"",COUNTIFS(Vaktliste!$A$2:$A$500,$A17,Vaktliste!$B$2:$B$500,">="&$B$1,Vaktliste!$B$2:$B$500,"<"&($B$1+7))) | K17: =IF(OR($A17="",$B$1=""),"",COUNTIFS(Vaktliste!$A$2:$A$500,$A17,Vaktliste!$B$2:$B$500,">="&$B$1,Vaktliste!$B$2:$B$500,"<"&($B$1+7),Vaktliste!$H$2:$H$500,"Under 11 t hvile")+COUNTIFS(Vaktliste!$A$2:$A$500,$A17,Vaktliste!$B$2:$B$500,">="&$B$1,Vaktliste!$B$2:$B$500,"<"&($B$1+7),Vaktliste!$H$2:$H$500,"Overlapper forrige vakt"))
... B33: =IF(OR($A33="",B$3=""),"",SUMIFS(Vaktliste!$F$2:$F$500,Vaktliste!$A$2:$A$500,$A33,Vaktliste!$B$2:$B$500,B$3)) | C33: =IF(OR($A33="",C$3=""),"",SUMIFS(Vaktliste!$F$2:$F$500,Vaktliste!$A$2:$A$500,$A33,Vaktliste!$B$2:$B$500,C$3)) | D33: =IF(OR($A33="",D$3=""),"",SUMIFS(Vaktliste!$F$2:$F$500,Vaktliste!$A$2:$A$500,$A33,Vaktliste!$B$2:$B$500,D$3)) | E33: =IF(OR($A33="",E$3=""),"",SUMIFS(Vaktliste!$F$2:$F$500,Vaktliste!$A$2:$A$500,$A33,Vaktliste!$B$2:$B$500,E$3)) | F33: =IF(OR($A33="",F$3=""),"",SUMIFS(Vaktliste!$F$2:$F$500,Vaktliste!$A$2:$A$500,$A33,Vaktliste!$B$2:$B$500,F$3)) | G33: =IF(OR($A33="",G$3=""),"",SUMIFS(Vaktliste!$F$2:$F$500,Vaktliste!$A$2:$A$500,$A33,Vaktliste!$B$2:$B$500,G$3)) | H33: =IF(OR($A33="",H$3=""),"",SUMIFS(Vaktliste!$F$2:$F$500,Vaktliste!$A$2:$A$500,$A33,Vaktliste!$B$2:$B$500,H$3)) | I33: =IF($A33="","",SUM(B33:H33)) | J33: =IF(OR($A33="",$B$1=""),"",COUNTIFS(Vaktliste!$A$2:$A$500,$A33,Vaktliste!$B$2:$B$500,">="&$B$1,Vaktliste!$B$2:$B$500,"<"&($B$1+7))) | K33: =IF(OR($A33="",$B$1=""),"",COUNTIFS(Vaktliste!$A$2:$A$500,$A33,Vaktliste!$B$2:$B$500,">="&$B$1,Vaktliste!$B$2:$B$500,"<"&($B$1+7),Vaktliste!$H$2:$H$500,"Under 11 t hvile")+COUNTIFS(Vaktliste!$A$2:$A$500,$A33,Vaktliste!$B$2:$B$500,">="&$B$1,Vaktliste!$B$2:$B$500,"<"&($B$1+7),Vaktliste!$H$2:$H$500,"Overlapper forrige vakt"))

Sheet Slik bruker du malen
A1: Vaktliste-mal fra Tellur
A2: En enkel vaktliste for én uke, med én rad per vakt. Malen regner ut timer og hvile siden forrige vakt, og markerer vakter med under 11 timers hvile med rødt.
A4: Slik bruker du malen
A5: 1. Slett eksempelradene i arket Vaktliste (navnene som starter med «Eksempel»). Slett bare innholdet i kolonne A–E, så formlene blir stående.
A6: 2. Skriv én rad per vakt: navnet på den ansatte, datoen vakten starter, start og slutt som tt:mm (for eksempel 07:00) og arbeidssted.
A7: 3. Vakter over midnatt: skriv bare klokkeslettene, for eksempel 23:00 til 07:00. Når slutt er lik eller tidligere enn start, regner malen med at vakten slutter dagen etter.
A8: 4. Timer er lengden på vakten fra start til slutt. Pause er ikke trukket fra.
A9: 5. Hvile før (timer) er tiden fra forrige vakt for samme ansatt sluttet til denne starter. Rekkefølgen på radene spiller ingen rolle, og du kan sortere og filtrere som du vil. Den første vakten for hver ansatt får tom hvile.
A10: 6. Rød rad betyr under 11 timers hvile siden forrige vakt. «Overlapper forrige vakt» betyr at vakten starter før den forrige har sluttet. Delte vakter samme dag (for eksempel 07–11 og 16–20) blir også røde. Der må du selv se om den ansatte har 11 timer sammenhengende fri i løpet av døgnet.
A11: 7. Arket Uke viser timer per dag, sum timer, antall vakter og antall hvilevarsler (under 11 timers hvile eller overlapp) for hver ansatt. Skriv navnene i kolonne A der.
A12: 8. Formlene er ferdig utfylt for 100 vakter. Trenger du flere, kopier den siste raden nedover. Formlene regner med opptil rad 500.
A13: 9. Kolonne I og J er skjulte hjelpekolonner som gjør dato og klokkeslett om til minutter. Ikke slett dem.
... A25: tellur.no/vaktliste
